BEGIN:VCALENDAR
VERSION:2.0
PRODID:-//The Edge at Grayhawk - ECPv6.15.20//NONSGML v1.0//EN
CALSCALE:GREGORIAN
METHOD:PUBLISH
X-WR-CALNAME:The Edge at Grayhawk
X-ORIGINAL-URL:https://theedgegrayhawk.com
X-WR-CALDESC:Events for The Edge at Grayhawk
REFRESH-INTERVAL;VALUE=DURATION:PT1H
X-Robots-Tag:noindex
X-PUBLISHED-TTL:PT1H
BEGIN:VTIMEZONE
TZID:America/Phoenix
BEGIN:STANDARD
TZOFFSETFROM:-0700
TZOFFSETTO:-0700
TZNAME:MST
DTSTART:20250101T000000
END:STANDARD
END:VTIMEZONE
BEGIN:VEVENT
DTSTART;TZID=America/Phoenix:20260419T130000
DTEND;TZID=America/Phoenix:20260419T150000
DTSTAMP:20260420T114650
CREATED:20260325T210010Z
LAST-MODIFIED:20260409T180140Z
UID:10000875-1776603600-1776610800@theedgegrayhawk.com
SUMMARY:~EDGE~ Ladies Tea ~ Wear Your Hats! ~ 1-3PM ~ $15
DESCRIPTION:Sorry\, but you do not have permission to view this content.
URL:https://theedgegrayhawk.com/event/edge-ladies-tea-wear-your-hats-1-3pm-15/
LOCATION:EDGE\, 20100 N 78th Place\, Scottsdale\, 85255\, United States
ORGANIZER;CN="EDGE":MAILTO:EdgeConcierge@apm-management.com
END:VEVENT
BEGIN:VEVENT
DTSTART;TZID=America/Phoenix:20260419T160000
DTEND;TZID=America/Phoenix:20260419T180000
DTSTAMP:20260420T114650
CREATED:20260325T210047Z
LAST-MODIFIED:20260325T145526Z
UID:10000876-1776614400-1776621600@theedgegrayhawk.com
SUMMARY:~VENU~ Texas Hold'em ~ Poker ~ 4PM ~ RSVP
DESCRIPTION:Sorry\, but you do not have permission to view this content.
URL:https://theedgegrayhawk.com/event/venu-texas-holdem-poker-4pm-rsvp-2/
LOCATION:VENU\, 19777 N. 76th St.\, Scottsdale\, AZ\, 85255\, United States
ORGANIZER;CN="EDGE":MAILTO:EdgeConcierge@apm-management.com
END:VEVENT
BEGIN:VEVENT
DTSTART;TZID=America/Phoenix:20260420T180000
DTEND;TZID=America/Phoenix:20260420T200000
DTSTAMP:20260420T114650
CREATED:20260325T210050Z
LAST-MODIFIED:20260325T151127Z
UID:10000877-1776708000-1776715200@theedgegrayhawk.com
SUMMARY:~VENU~ Chef Dinner ~ Chinese 5 Spice Chicken ~ 6PM ~ $17
DESCRIPTION:Sorry\, but you do not have permission to view this content.
URL:https://theedgegrayhawk.com/event/venu-chef-dinner-chinese-5-spice-chicken-6pm-17/
LOCATION:VENU\, 19777 N. 76th St.\, Scottsdale\, AZ\, 85255\, United States
ORGANIZER;CN="EDGE":MAILTO:EdgeConcierge@apm-management.com
END:VEVENT
BEGIN:VEVENT
DTSTART;TZID=America/Phoenix:20260421T180000
DTEND;TZID=America/Phoenix:20260421T200000
DTSTAMP:20260420T114650
CREATED:20260325T210053Z
LAST-MODIFIED:20260325T151420Z
UID:10000878-1776794400-1776801600@theedgegrayhawk.com
SUMMARY:~VENU~ B-I-N-G-O!!! ~ 6PM ~ $6
DESCRIPTION:Sorry\, but you do not have permission to view this content.
URL:https://theedgegrayhawk.com/event/venu-b-i-n-g-o-6pm-6-5/
LOCATION:VENU\, 19777 N. 76th St.\, Scottsdale\, AZ\, 85255\, United States
ORGANIZER;CN="EDGE":MAILTO:EdgeConcierge@apm-management.com
END:VEVENT
BEGIN:VEVENT
DTSTART;TZID=America/Phoenix:20260422T180000
DTEND;TZID=America/Phoenix:20260422T200000
DTSTAMP:20260420T114650
CREATED:20260325T210055Z
LAST-MODIFIED:20260325T151849Z
UID:10000879-1776880800-1776888000@theedgegrayhawk.com
SUMMARY:~EDGE~ Chef Dinner ~ Roasted Pork Loin ~ 6PM ~ $18
DESCRIPTION:Sorry\, but you do not have permission to view this content.
URL:https://theedgegrayhawk.com/event/edge-chef-dinner-roasted-pork-loin-6pm-18-2/
LOCATION:EDGE\, 20100 N 78th Place\, Scottsdale\, 85255\, United States
ORGANIZER;CN="EDGE":MAILTO:EdgeConcierge@apm-management.com
END:VEVENT
BEGIN:VEVENT
DTSTART;TZID=America/Phoenix:20260423T180000
DTEND;TZID=America/Phoenix:20260423T200000
DTSTAMP:20260420T114650
CREATED:20260325T210057Z
LAST-MODIFIED:20260325T154530Z
UID:10000880-1776967200-1776974400@theedgegrayhawk.com
SUMMARY:~VENU~ Taco + Happy Hour + Trivia ~ 6-8PM ~ $18
DESCRIPTION:Sorry\, but you do not have permission to view this content.
URL:https://theedgegrayhawk.com/event/venu-taco-happy-hour-trivia-6-8pm-18/
LOCATION:VENU\, 19777 N. 76th St.\, Scottsdale\, AZ\, 85255\, United States
ORGANIZER;CN="EDGE":MAILTO:EdgeConcierge@apm-management.com
END:VEVENT
END:VCALENDAR